BEGIN:VCALENDAR
VERSION:2.0
PRODID:-//SERAMA - ECPv6.11.2.1//NONSGML v1.0//EN
CALSCALE:GREGORIAN
METHOD:PUBLISH
X-ORIGINAL-URL:https://e.everythingmedia.video
X-WR-CALDESC:Events for SERAMA
REFRESH-INTERVAL;VALUE=DURATION:PT1H
X-Robots-Tag:noindex
X-PUBLISHED-TTL:PT1H
BEGIN:VTIMEZONE
TZID:UTC
BEGIN:STANDARD
TZOFFSETFROM:+0000
TZOFFSETTO:+0000
TZNAME:UTC
DTSTART:20250101T000000
END:STANDARD
END:VTIMEZONE
BEGIN:VEVENT
DTSTART;TZID=UTC:20250512T080000
DTEND;TZID=UTC:20250512T170000
DTSTAMP:20260424T074245
CREATED:20250512T082305Z
LAST-MODIFIED:20250512T082305Z
UID:1937-1747036800-1747069200@e.everythingmedia.video
SUMMARY:MEET & GREET
DESCRIPTION:Hosting
URL:https://e.everythingmedia.video/event/meet-greet/
LOCATION:Stanford\, 123 Road Street\, Nairobi\, Naisotbi\, 20100\, Kenya
ORGANIZER;CN="NEESITES LIMITED":MAILTO:info@neesites.co.ke
END:VEVENT
END:VCALENDAR